BEGIN:VCALENDAR
VERSION:2.0
CALSCALE:GREGORIAN
PRODID:adamgibbons/ics
METHOD:PUBLISH
X-PUBLISHED-TTL:PT1H
BEGIN:VEVENT
UID:485@cal.gravitons.org
SUMMARY:Sessions Live With Quiet Chaos
DTSTAMP:20260421T122333Z
DTSTART:20260421T210000Z
DTEND:20260421T230000Z
URL:https://cal.gravitons.org/event/sessions-live-with-quiet-chaos
LOCATION:online - https://labr.online
STATUS:CONFIRMED
CATEGORIES:communityradio,radio,owncast,music,livestream,labr,hou,fediwave,
	fediradio,dj
END:VEVENT
BEGIN:VEVENT
UID:488@cal.gravitons.org
SUMMARY:New: The Work Shop with Ken Walker
DTSTAMP:20260421T122333Z
DTSTART:20260422T170000Z
DTEND:20260422T190000Z
URL:https://cal.gravitons.org/event/new-the-work-shop-with-ken-walker
LOCATION:online - https://labr.online
STATUS:CONFIRMED
CATEGORIES:music,livestream,labr,fediwave,fediradio,dj,communityradio,radio
	,owncast,openform
END:VEVENT
BEGIN:VEVENT
UID:487@cal.gravitons.org
SUMMARY:Midweek Workday Chill Mix LIVE with Brother Soul
DTSTAMP:20260421T122333Z
DTSTART:20260422T190000Z
DTEND:20260422T210000Z
URL:https://cal.gravitons.org/event/midweek-workday-chill-mix-live-with-bro
	ther-soul
LOCATION:online - https://labr.online
STATUS:CONFIRMED
CATEGORIES:openform,livestream,labr,fediwave,fediradio,dj,communityradio,ra
	dio,owncast,music
END:VEVENT
BEGIN:VEVENT
UID:471@cal.gravitons.org
SUMMARY:The Sound Of  a Dancer LIVE with  DJ Dat Gurl Curly
DTSTAMP:20260421T122333Z
DTSTART:20260423T100000Z
DTEND:20260423T130000Z
URL:https://cal.gravitons.org/event/the-sound-of-a-dancer-live-with-dj-dat-
	gurl-curly
LOCATION:online - https://labr.online
STATUS:CONFIRMED
CATEGORIES:labr,music,owncast,radio,communityradio,fediradio,fediwave
END:VEVENT
BEGIN:VEVENT
UID:486@cal.gravitons.org
SUMMARY:Friday Night LIVE : Banging in Brighton LIVE with Liam Wabbit
DTSTAMP:20260421T122333Z
DTSTART:20260424T190000Z
DTEND:20260424T200000Z
URL:https://cal.gravitons.org/event/friday-night-live-banging-in-brighton-l
	ive-with-liam-wabbit
LOCATION:online - https://labr.online
STATUS:CONFIRMED
CATEGORIES:fedifriends,communityradio,dj,djlife,fediradio,fediwave,house,la
	br,loveabrotherradio,music,owncast,radio
END:VEVENT
BEGIN:VEVENT
UID:480@cal.gravitons.org
SUMMARY:Friday Night LIVE: Weekend Workout LIVE with Brother Soul
DTSTAMP:20260421T122333Z
DTSTART:20260424T210000Z
DTEND:20260424T230000Z
URL:https://cal.gravitons.org/event/friday-night-live-weekend-workout-live-
	with-brother-soul-1
LOCATION:online - https://labr.online
STATUS:CONFIRMED
CATEGORIES:fediwave,communityradio,fediradio,radio,owncast,music,labr
END:VEVENT
BEGIN:VEVENT
UID:482@cal.gravitons.org
SUMMARY:Friday Night LIVE : Go Funk Yourself LIVE with Witton
DTSTAMP:20260421T122333Z
DTSTART:20260424T230000Z
DTEND:20260425T000000Z
URL:https://cal.gravitons.org/event/friday-night-live-go-funk-yourself-live
	-with-witton-1
LOCATION:online - https://labr.online
STATUS:CONFIRMED
CATEGORIES:fediwave,fediradio,communityradio,owncast,radio,music,labr
END:VEVENT
BEGIN:VEVENT
UID:484@cal.gravitons.org
SUMMARY:The Greasy Spoon LIVE with Divine Ellison
DTSTAMP:20260421T122333Z
DTSTART:20260425T150000Z
DTEND:20260425T180000Z
URL:https://cal.gravitons.org/event/the-greasy-spoon-live-with-divine-ellis
	on
LOCATION:online - https://labr.online
STATUS:CONFIRMED
CATEGORIES:labr,fediwave,fediradio,communityradio,radio,owncast,music
END:VEVENT
BEGIN:VEVENT
UID:489@cal.gravitons.org
SUMMARY:An Evening of LIVE with DJ Bodger
DTSTAMP:20260421T122333Z
DTSTART:20260427T200000Z
DTEND:20260427T220000Z
URL:https://cal.gravitons.org/event/an-evening-of-live-with-dj-bodger-1
LOCATION:online - https://labr.online
STATUS:CONFIRMED
CATEGORIES:fediradio,fediwave,labr,music,owncast,radio,communityradio
END:VEVENT
BEGIN:VEVENT
UID:239@cal.gravitons.org
SUMMARY:Elif Yalvac - 3rd W3dn35day online gig
DTSTAMP:20260421T122333Z
DTSTART:20260520T190000Z
DTEND:20260520T200000Z
URL:https://cal.gravitons.org/event/elif-yalvac-3rd-w3dn35day-online-gig
LOCATION:online - https://stream.gravitons.org
STATUS:CONFIRMED
CATEGORIES:electronic music,fediwave,gravitons,liveStreaming,music,NHAM eve
	nts,owncast
END:VEVENT
BEGIN:VEVENT
UID:473@cal.gravitons.org
SUMMARY:NHAM in Concert presents… gribbles
DTSTAMP:20260421T122333Z
DTSTART:20260521T190000Z
DTEND:20260521T200000Z
URL:https://cal.gravitons.org/event/nham-in-concert-presents-2
LOCATION:online - https://tv.theindiebeat.fm/
STATUS:CONFIRMED
CATEGORIES:livestream,TIBtv,live music,fediwave,live,electronic music,ownca
	st,NHAM in Concert,NHAM events,NHAM,music,liveStreaming
END:VEVENT
END:VCALENDAR
