BEGIN:VCALENDAR
VERSION:2.0
CALSCALE:GREGORIAN
PRODID:adamgibbons/ics
METHOD:PUBLISH
X-PUBLISHED-TTL:PT1H
BEGIN:VEVENT
UID:499@cal.gravitons.org
SUMMARY:Pop-Up Party
DTSTAMP:20260422T020107Z
DTSTART:20260424T150000Z
DTEND:20260424T210000Z
URL:https://cal.gravitons.org/event/pop-up-party
LOCATION:Native Coffee - Queens Quay\, Belfast\, BT3 9DA
STATUS:CONFIRMED
CATEGORIES:outdoor,dj,Belfast,Ainriail
END:VEVENT
BEGIN:VEVENT
UID:495@cal.gravitons.org
SUMMARY:Hit The North Street Art Festival
DTSTAMP:20260422T020107Z
DTSTART:20260503T130000Z
DTEND:20260503T200000Z
URL:https://cal.gravitons.org/event/hit-the-north-street-art-festival
LOCATION:The Sunflower - Sunflower Public House\, 65 Union St\, Belfast BT1
	 2JG
STATUS:CONFIRMED
CATEGORIES:street art,Ainriail,Belfast,festival,outdoor
END:VEVENT
BEGIN:VEVENT
UID:457@cal.gravitons.org
SUMMARY:Save Lough Neagh Film Festival And Conference
DTSTAMP:20260422T020107Z
DTSTART:20260509T080000Z
DTEND:20260510T160000Z
URL:https://cal.gravitons.org/event/save-lough-neagh-film-festival-and-conf
	erence
LOCATION:Oxford Island - Oxford Island Nature Reserve\, Lurgan BT66 6NJ
STATUS:CONFIRMED
CATEGORIES:Ulster,Ainriail,Conference,film,film fest,Lough Neagh,Lurgan,out
	door
END:VEVENT
BEGIN:VEVENT
UID:438@cal.gravitons.org
SUMMARY:Uisce Sionainn / Flora Liatromensis
DTSTAMP:20260422T020107Z
DTSTART:20260516T100000Z
DTEND:20260516T120000Z
URL:https://cal.gravitons.org/event/uisce-sionainn-flora-liatromensis
LOCATION:The Dock Arts Centre - St. George’s Terrace\, Carrick-on-Shannon\,
	 County Leitrim\, N41T2X2.
STATUS:CONFIRMED
CATEGORIES:thedock,visualart,leitrim,ethnobotany,ecology,Ainriail,outdoor
END:VEVENT
END:VCALENDAR
