BEGIN:VCALENDAR
VERSION:2.0
CALSCALE:GREGORIAN
PRODID:adamgibbons/ics
METHOD:PUBLISH
X-PUBLISHED-TTL:PT1H
BEGIN:VEVENT
UID:294@cal.gravitons.org
SUMMARY:Bookbinding for Artists with Elize De Beer
DTSTAMP:20260425T141551Z
DTSTART:20260425T090000Z
DTEND:20260426T160000Z
URL:https://cal.gravitons.org/event/bookbinding-for-artists-with-elize-de-b
	eer
LOCATION:Cork Printmakers - Wandesford Quay\, Clarke’s Bridge\, Cork T12 E2
	6D
STATUS:CONFIRMED
CATEGORIES:Ainriail,visualart,workshop,Cork
END:VEVENT
BEGIN:VEVENT
UID:483@cal.gravitons.org
SUMMARY:IT’S NOT CLEAR FROM HERE
DTSTAMP:20260425T141551Z
DTSTART:20260425T110000Z
DTEND:20260425T170000Z
URL:https://cal.gravitons.org/event/its-not-clear-from-here
LOCATION:CCA Derry~ Londonderry - 10–12 Artillery St Derry~Londonderry BT48
	 6RG\, Northern Ireland
STATUS:CONFIRMED
CATEGORIES:Ainriail
END:VEVENT
BEGIN:VEVENT
UID:443@cal.gravitons.org
SUMMARY:Allages Gig with: Jogging\, Knifebear\, Garage Olimpo
DTSTAMP:20260425T141551Z
DTSTART:20260425T150000Z
DTEND:20260425T200000Z
URL:https://cal.gravitons.org/event/allages-gig-with-jogging-knifebear-gara
	ge-olimpo
LOCATION:The Racket Space - Cross Guns Bridge\, D09 XW44 Dublin 9
STATUS:CONFIRMED
CATEGORIES:indie,Punk,allages,Ainriail,live music,Dublin,community
END:VEVENT
BEGIN:VEVENT
UID:494@cal.gravitons.org
SUMMARY:Gruama ft. HUTCH.IRL - Pink Moustache EP Launch
DTSTAMP:20260425T141551Z
DTSTART:20260425T180000Z
URL:https://cal.gravitons.org/event/gruama-ft-hutchirl-pink-moustache-ep-la
	unch
LOCATION:Pigment Space - Pigment Space\, 54a Sunnyside Street\, Belfast BT7
	 3EX
STATUS:CONFIRMED
CATEGORIES:pigment space,live music,Ainriail,Belfast,gruama
END:VEVENT
BEGIN:VEVENT
UID:454@cal.gravitons.org
SUMMARY:Happy Days Fest
DTSTAMP:20260425T141551Z
DTSTART:20260425T190000Z
DTEND:20260425T220000Z
URL:https://cal.gravitons.org/event/happy-days-fest
LOCATION:The Oh Yeah Centre - 15-21 Gordon Street\, Belfast\, BT1 2LG
STATUS:CONFIRMED
CATEGORIES:oh yeah centre,Belfast,Ainriail,live music,happy days fest
END:VEVENT
BEGIN:VEVENT
UID:433@cal.gravitons.org
SUMMARY:peer to peer life drawing
DTSTAMP:20260425T141551Z
DTSTART:20260426T160000Z
DTEND:20260426T180000Z
URL:https://cal.gravitons.org/event/peer-to-peer-life-drawing
LOCATION:Daylight Glasnevin - D11TX99
STATUS:CONFIRMED
CATEGORIES:life drawing,Dublin,Ainriail,visualart,peer to peer
END:VEVENT
BEGIN:VEVENT
UID:467@cal.gravitons.org
SUMMARY:Screen Print for Beginners I
DTSTAMP:20260425T141551Z
DTSTART:20260428T173000Z
DTEND:20260428T203000Z
URL:https://cal.gravitons.org/event/screen-print-for-beginners-i
LOCATION:Black Church Print Studio - 4 Temple Bar\, Dublin 2\, D02 YK53
STATUS:CONFIRMED
CATEGORIES:Ainriail
END:VEVENT
BEGIN:VEVENT
UID:462@cal.gravitons.org
SUMMARY:UNDERGROUND
DTSTAMP:20260425T141551Z
DTSTART:20260429T120000Z
DTEND:20260524T180000Z
URL:https://cal.gravitons.org/event/underground
LOCATION:A4 Sounds - St Joseph's Parade\, Upper Dorset Street\, Dublin\, D0
	7 ER81
STATUS:CONFIRMED
CATEGORIES:a4 sounds,Dublin,Ainriail,visualart,exhibition
END:VEVENT
BEGIN:VEVENT
UID:500@cal.gravitons.org
SUMMARY:Breakin' Session (Chaque Mercredi)
DTSTAMP:20260425T141551Z
DTSTART:20260429T140000Z
DTEND:20260429T153000Z
URL:https://cal.gravitons.org/event/breakin-session-chaque-mercredi-1
LOCATION:Le Rado-Versoix - Chemin Cesar-Courvoisier 1\, 1290 Versoix\, Genè
	ve\, Suisse
STATUS:CONFIRMED
CATEGORIES:
END:VEVENT
BEGIN:VEVENT
UID:491@cal.gravitons.org
SUMMARY:Entanglement and Mint Tea Gathering
DTSTAMP:20260425T141551Z
DTSTART:20260429T170000Z
DTEND:20260429T190000Z
URL:https://cal.gravitons.org/event/entanglement-and-mint-tea-gathering
LOCATION:Pallas Projects/Studios - 115-116 The Coombe\, D08A970
STATUS:CONFIRMED
CATEGORIES:community,Dublin,Ainriail,visualart,ecology
END:VEVENT
BEGIN:VEVENT
UID:476@cal.gravitons.org
SUMMARY:The GAFF Film Night
DTSTAMP:20260425T141551Z
DTSTART:20260430T160000Z
DTEND:20260430T183000Z
URL:https://cal.gravitons.org/event/the-gaff-film-night
LOCATION:The GAFF - 30 Lord Edward Street\, Limerick\, V94 FHH1
STATUS:CONFIRMED
CATEGORIES:film,Limerick,Ainriail
END:VEVENT
BEGIN:VEVENT
UID:504@cal.gravitons.org
SUMMARY:KUNFU HIP-HOP SESSION
DTSTAMP:20260425T141551Z
DTSTART:20260430T160000Z
DTEND:20260430T174500Z
URL:https://cal.gravitons.org/event/kunfu-hip-hop-session
LOCATION:Map - 16 rue Alfred Vincent Geneva
STATUS:CONFIRMED
CATEGORIES:
END:VEVENT
BEGIN:VEVENT
UID:496@cal.gravitons.org
SUMMARY:Inaekkum ft. Lord Jane
DTSTAMP:20260425T141551Z
DTSTART:20260430T190000Z
URL:https://cal.gravitons.org/event/inaekkum-ft-lord-jane
LOCATION:Ulster Sports Club - Ulster Sports Club\, 96-98 High St\, Belfast\
	, BT1 2BG
STATUS:CONFIRMED
CATEGORIES:synth rock,Belfast,ulster sports club,Ainriail,live music
END:VEVENT
BEGIN:VEVENT
UID:505@cal.gravitons.org
SUMMARY:Scouts Hall Yoga Chapelizod W Brownsauce
DTSTAMP:20260425T141551Z
DTSTART:20260430T191500Z
DTEND:20260501T084500Z
URL:https://cal.gravitons.org/event/scouts-hall-yoga-chapelizod-w-brownsauc
	e
LOCATION:Scout Hall Chapelizod - Chapelizod
STATUS:CONFIRMED
CATEGORIES:Ainriail
END:VEVENT
BEGIN:VEVENT
UID:382@cal.gravitons.org
SUMMARY:Acid Granny\, KnifeFist\, Glockteau Twins\, Pronoun Circle
DTSTAMP:20260425T141551Z
DTSTART:20260501T070000Z
DTEND:20260501T230000Z
URL:https://cal.gravitons.org/event/acid-granny-knifefist-glockteau-twins-p
	ronoun-circle
LOCATION:Santry Tunnel (pin bellow) - https://maps.app.goo.gl/ZPLBgPXNSmkh7
	6Bz5
STATUS:CONFIRMED
CATEGORIES:Ainriail
END:VEVENT
BEGIN:VEVENT
UID:253@cal.gravitons.org
SUMMARY:BLOODY KISSES
DTSTAMP:20260425T141551Z
DTSTART:20260501T180000Z
DTEND:20260501T225500Z
URL:https://cal.gravitons.org/event/bloody-kisses-1
LOCATION:Voodoo Belfast - 9-11 Fountain Street\, Belfast\, BT1 5EA
STATUS:CONFIRMED
CATEGORIES:Ainriail,live music,metal,Belfast
END:VEVENT
BEGIN:VEVENT
UID:449@cal.gravitons.org
SUMMARY:Bealtaine Eco Print Workshops
DTSTAMP:20260425T141551Z
DTSTART:20260502T130000Z
DTEND:20260503T170000Z
URL:https://cal.gravitons.org/event/bealtaine-eco-print-workshops
LOCATION:Flux Studios - 4 Chatham Row\, Dublin 2
STATUS:CONFIRMED
CATEGORIES:visualart,ecology,photography,workshop,Ainriail
END:VEVENT
BEGIN:VEVENT
UID:495@cal.gravitons.org
SUMMARY:Hit The North Street Art Festival
DTSTAMP:20260425T141551Z
DTSTART:20260503T130000Z
DTEND:20260503T200000Z
URL:https://cal.gravitons.org/event/hit-the-north-street-art-festival
LOCATION:The Sunflower - Sunflower Public House\, 65 Union St\, Belfast BT1
	 2JG
STATUS:CONFIRMED
CATEGORIES:Ainriail,street art,Belfast,outdoor,festival
END:VEVENT
BEGIN:VEVENT
UID:498@cal.gravitons.org
SUMMARY:Late Night Art
DTSTAMP:20260425T141551Z
DTSTART:20260507T160000Z
URL:https://cal.gravitons.org/event/late-night-art
LOCATION:Belfast - Various Locations
STATUS:CONFIRMED
CATEGORIES:Ainriail
END:VEVENT
BEGIN:VEVENT
UID:477@cal.gravitons.org
SUMMARY:Connolly Books Film Club presents ‘I am Cuba’
DTSTAMP:20260425T141551Z
DTSTART:20260507T180000Z
DTEND:20260507T200000Z
URL:https://cal.gravitons.org/event/connolly-books-film-club-presents-i-am-
	cuba
LOCATION:The New Theatre - 43 Essex St E\, Temple Bar\, Dublin\, D02 Y306
STATUS:CONFIRMED
CATEGORIES:screening,film,Ainriail,movie,cuba,connolly
END:VEVENT
BEGIN:VEVENT
UID:251@cal.gravitons.org
SUMMARY:Fixity (With Strings) : 'Assurance' Album Launch
DTSTAMP:20260425T141551Z
DTSTART:20260507T190000Z
DTEND:20260507T214500Z
URL:https://cal.gravitons.org/event/fixity-with-strings-assurance-dublin-la
	unch
LOCATION:Whelan's Main Room - 25 Wexford St Dublin 2
STATUS:CONFIRMED
CATEGORIES:Ainriail,experimental,Dublin,live music,Jazz,enthusiastic eunuch
END:VEVENT
BEGIN:VEVENT
UID:497@cal.gravitons.org
SUMMARY:"Queer Community & Belonging In Belfast" Opening Night
DTSTAMP:20260425T141551Z
DTSTART:20260508T180000Z
DTEND:20260508T200000Z
URL:https://cal.gravitons.org/event/queer-community-and-belonging-in-belfas
	t-opening-night
LOCATION:Happy Day Arts - 2nd floor\, Conway Mill 5-7 Conway Street\, Belfa
	st\, BT13 2DE
STATUS:CONFIRMED
CATEGORIES:art,zines,Ainriail,queer,exhibition,conway mill,queer belfast,Be
	lfast
END:VEVENT
BEGIN:VEVENT
UID:478@cal.gravitons.org
SUMMARY:Emma Brennan and Thomas Wells—The House of Atreus
DTSTAMP:20260425T141551Z
DTSTART:20260508T230000Z
DTEND:20260523T170000Z
URL:https://cal.gravitons.org/event/emma-brennan-and-thomas-wellsthe-house-
	of-atreus
LOCATION:Pallas Projects/Studios - 115-116 The Coombe\, D08A970
STATUS:CONFIRMED
CATEGORIES:thomas wells,Pallas Projects,cultural event,emma brenan,Artist t
	alk,performance,exhibition,Ainriail
END:VEVENT
BEGIN:VEVENT
UID:457@cal.gravitons.org
SUMMARY:Save Lough Neagh Film Festival And Conference
DTSTAMP:20260425T141551Z
DTSTART:20260509T080000Z
DTEND:20260510T160000Z
URL:https://cal.gravitons.org/event/save-lough-neagh-film-festival-and-conf
	erence
LOCATION:Oxford Island - Oxford Island Nature Reserve\, Lurgan BT66 6NJ
STATUS:CONFIRMED
CATEGORIES:film fest,outdoor,Ainriail,Conference,film,Lough Neagh,Ulster,Lu
	rgan
END:VEVENT
BEGIN:VEVENT
UID:176@cal.gravitons.org
SUMMARY:Mike Cooper
DTSTAMP:20260425T141551Z
DTSTART:20260514T190000Z
DTEND:20260514T214500Z
URL:https://cal.gravitons.org/event/mike-cooper
LOCATION:The Cobblestone\, North King St - North King St\, Dublin 7
STATUS:CONFIRMED
CATEGORIES:Improvised music,folk,experimental,Dublin,live music,Ainriail,Ja
	zz,mike cooper
END:VEVENT
BEGIN:VEVENT
UID:438@cal.gravitons.org
SUMMARY:Uisce Sionainn / Flora Liatromensis
DTSTAMP:20260425T141551Z
DTSTART:20260516T100000Z
DTEND:20260516T120000Z
URL:https://cal.gravitons.org/event/uisce-sionainn-flora-liatromensis
LOCATION:The Dock Arts Centre - St. George’s Terrace\, Carrick-on-Shannon\,
	 County Leitrim\, N41T2X2.
STATUS:CONFIRMED
CATEGORIES:leitrim,Ainriail,visualart,thedock,outdoor,ecology,ethnobotany
END:VEVENT
BEGIN:VEVENT
UID:427@cal.gravitons.org
SUMMARY:Regard - 022
DTSTAMP:20260425T141551Z
DTSTART:20260517T180000Z
DTEND:20260517T200000Z
URL:https://cal.gravitons.org/event/regard-022
LOCATION:Thread Studio Belfast - Unit B1\, Portview Trade Centre\, 310 Newt
	ownards Road\, Belfast\, BT4 1HE
STATUS:CONFIRMED
CATEGORIES:Regard,Belfast,Ainriail,live music,community
END:VEVENT
BEGIN:VEVENT
UID:177@cal.gravitons.org
SUMMARY:Eugene Chadbourne
DTSTAMP:20260425T141551Z
DTSTART:20260517T190000Z
DTEND:20260517T214500Z
URL:https://cal.gravitons.org/event/eugene-chadbourne
LOCATION:The Cobblestone\, North King St - North King St\, Dublin 7
STATUS:CONFIRMED
CATEGORIES:Dublin,banjo,eugene chadbourne,the cobblestone,Improvised music,
	Jazz,Ainriail,live music,folk
END:VEVENT
BEGIN:VEVENT
UID:474@cal.gravitons.org
SUMMARY:Improv Club
DTSTAMP:20260425T141551Z
DTSTART:20260520T164500Z
DTEND:20260520T190000Z
URL:https://cal.gravitons.org/event/improv-club
LOCATION:Kirkos - 1 Little Green St.\, D07 K744
STATUS:CONFIRMED
CATEGORIES:Ainriail
END:VEVENT
BEGIN:VEVENT
UID:252@cal.gravitons.org
SUMMARY:pôt-pot
DTSTAMP:20260425T141551Z
DTSTART:20260521T190000Z
DTEND:20260521T213000Z
URL:https://cal.gravitons.org/event/pot-pot
LOCATION:The Workmans Club - 10 Wellington Quay\, Dublin 21
STATUS:CONFIRMED
CATEGORIES:pot pot,Psych,enthusiastic eunuch,Ainriail,live music,Dublin,kra
	utrock,workmans club
END:VEVENT
BEGIN:VEVENT
UID:493@cal.gravitons.org
SUMMARY:DOSE: pôt-pot / Senior Infants / Odd Ned
DTSTAMP:20260425T141551Z
DTSTART:20260523T190000Z
DTEND:20260524T013000Z
URL:https://cal.gravitons.org/event/dose-pot-pot-senior-infants-odd-ned
LOCATION:The Kino - Washington Street\, Cork City\, T12 NY66
STATUS:CONFIRMED
CATEGORIES:Ainriail,Cork,krautrock,DOSE,Dub,live music
END:VEVENT
BEGIN:VEVENT
UID:469@cal.gravitons.org
SUMMARY:Simon Whetham/Phil Maguire
DTSTAMP:20260425T141551Z
DTSTART:20260524T170000Z
DTEND:20260524T200000Z
URL:https://cal.gravitons.org/event/simon-whethamphil-maguire
LOCATION:plugd - 3 Cornmarket Street\, Cork City
STATUS:CONFIRMED
CATEGORIES:synthesis,sound art,simon whetham,improvisation,phil maguire,Cor
	k,Ainriail,radio
END:VEVENT
BEGIN:VEVENT
UID:492@cal.gravitons.org
SUMMARY:Entanglement and Mint Tea Gathering
DTSTAMP:20260425T141551Z
DTSTART:20260527T170000Z
DTEND:20260527T190000Z
URL:https://cal.gravitons.org/event/entanglement-and-mint-tea-gathering-1
LOCATION:Pallas Projects/Studios - 115-116 The Coombe\, D08A970
STATUS:CONFIRMED
CATEGORIES:community,ecology,visualart,Ainriail,Dublin
END:VEVENT
BEGIN:VEVENT
UID:502@cal.gravitons.org
SUMMARY:General Meeting
DTSTAMP:20260425T141551Z
DTSTART:20260527T180000Z
DTEND:20260527T193000Z
URL:https://cal.gravitons.org/event/general-meeting
LOCATION:ddr studio - Flux - 4 Chatham Row in Dublin 2
STATUS:CONFIRMED
CATEGORIES:Ainriail
END:VEVENT
BEGIN:VEVENT
UID:415@cal.gravitons.org
SUMMARY:aemi with Bealtaine Festival & IFI present: Homerun -Two Films from
	 the Bodyverses series by Juana Robles
DTSTAMP:20260425T141551Z
DTSTART:20260530T110000Z
DTEND:20260530T123000Z
URL:https://cal.gravitons.org/event/aemi-with-bealtaine-festival-and-ifi-pr
	esent-homerun-two-films-from-the-bodyverses-series-by-juana-robles
LOCATION:Irish Film Institute (IFI) - 6 Eustace Street\, Temple Bar\, D2
STATUS:CONFIRMED
CATEGORIES:film,bealtainefestival,festival,irishfilminstitute,performancear
	t,bealtaine,experimental film,Ainriail,Dublin
END:VEVENT
BEGIN:VEVENT
UID:458@cal.gravitons.org
SUMMARY:The Pop Show
DTSTAMP:20260425T141551Z
DTSTART:20260530T180000Z
DTEND:20260530T200000Z
URL:https://cal.gravitons.org/event/the-pop-show
LOCATION:Pigment Space - Pigment Space\, 54a Sunnyside Street\, Belfast BT7
	 3EX
STATUS:CONFIRMED
CATEGORIES:Ainriail,Belfast,exhibition,art,Drag,pigment space
END:VEVENT
BEGIN:VEVENT
UID:501@cal.gravitons.org
SUMMARY:Dark Thoughts (USA) / Special Branch / Flower Power / Topper // Dub
	lin
DTSTAMP:20260425T141551Z
DTSTART:20260530T193000Z
DTEND:20260530T224500Z
URL:https://cal.gravitons.org/event/dark-thoughts-usa-special-branch-flower
	-power-topper-dublin
LOCATION:Mono's Bar - Dalymount\, Phibsborough\, Dublin\, D07 WF89
STATUS:CONFIRMED
CATEGORIES:DIY,Dublin,Ainriail,hardcore,Punk
END:VEVENT
BEGIN:VEVENT
UID:468@cal.gravitons.org
SUMMARY:Etching for Beginners
DTSTAMP:20260425T141551Z
DTSTART:20260617T173000Z
DTEND:20260617T203000Z
URL:https://cal.gravitons.org/event/etching-for-beginners
LOCATION:Black Church Print Studio - 4 Temple Bar\, Dublin 2\, D02 YK53
STATUS:CONFIRMED
CATEGORIES:Ainriail
END:VEVENT
BEGIN:VEVENT
UID:434@cal.gravitons.org
SUMMARY:Nílim / Luxury Mollusc / Sister Odd / Otterans
DTSTAMP:20260425T141551Z
DTSTART:20260731T190000Z
DTEND:20260801T105500Z
URL:https://cal.gravitons.org/event/nilim-luxury-mollusc-sister-odd-otteran
	s
LOCATION:Anseo - 18 Camden Street Lower\, Saint Kevin's\, Dublin 2\, D02 WK
	72
STATUS:CONFIRMED
CATEGORIES:alternative,Anseo,Dublin,Industrial,Ainriail,Noise,live music
END:VEVENT
END:VCALENDAR
