BEGIN:VCALENDAR
VERSION:2.0
CALSCALE:GREGORIAN
PRODID:adamgibbons/ics
METHOD:PUBLISH
X-PUBLISHED-TTL:PT1H
BEGIN:VEVENT
UID:484@cal.gravitons.org
SUMMARY:The Greasy Spoon LIVE with Divine Ellison
DTSTAMP:20260425T141847Z
DTSTART:20260425T150000Z
DTEND:20260425T180000Z
URL:https://cal.gravitons.org/event/the-greasy-spoon-live-with-divine-ellis
	on
LOCATION:online - https://labr.online
STATUS:CONFIRMED
CATEGORIES:radio,communityradio,fediradio,fediwave,labr,music,owncast
END:VEVENT
BEGIN:VEVENT
UID:489@cal.gravitons.org
SUMMARY:An Evening of LIVE with DJ Bodger
DTSTAMP:20260425T141847Z
DTSTART:20260427T200000Z
DTEND:20260427T220000Z
URL:https://cal.gravitons.org/event/an-evening-of-live-with-dj-bodger-1
LOCATION:online - https://labr.online
STATUS:CONFIRMED
CATEGORIES:radio,owncast,music,labr,fediwave,fediradio,communityradio
END:VEVENT
BEGIN:VEVENT
UID:503@cal.gravitons.org
SUMMARY:The Sound Of  a Dancer LIVE with  DJ Dat Gurl Curly
DTSTAMP:20260425T141847Z
DTSTART:20260430T100000Z
DTEND:20260430T130000Z
URL:https://cal.gravitons.org/event/the-sound-of-a-dancer-live-with-dj-dat-
	gurl-curly-1
LOCATION:online - https://labr.online
STATUS:CONFIRMED
CATEGORIES:communityradio,fediradio,fediwave,labr,music,owncast,radio
END:VEVENT
BEGIN:VEVENT
UID:508@cal.gravitons.org
SUMMARY:Friday Night LIVE: Weekend Workout LIVE with Brother Soul
DTSTAMP:20260425T141847Z
DTSTART:20260501T210000Z
DTEND:20260501T230000Z
URL:https://cal.gravitons.org/event/friday-night-live-weekend-workout-live-
	with-brother-soul
LOCATION:online - https://labr.online
STATUS:CONFIRMED
CATEGORIES:communityradio,radio,owncast,music,labr,fediwave,fediradio
END:VEVENT
BEGIN:VEVENT
UID:509@cal.gravitons.org
SUMMARY:Friday Night LIVE : Go Funk Yourself LIVE with Witton
DTSTAMP:20260425T141847Z
DTSTART:20260501T230000Z
DTEND:20260502T000000Z
URL:https://cal.gravitons.org/event/friday-night-live-go-funk-yourself-live
	-with-witton
LOCATION:online - https://labr.online
STATUS:CONFIRMED
CATEGORIES:communityradio,fediradio,fediwave,labr,music,owncast,radio
END:VEVENT
END:VCALENDAR
