BEGIN:VCALENDAR
VERSION:2.0
CALSCALE:GREGORIAN
PRODID:adamgibbons/ics
METHOD:PUBLISH
X-PUBLISHED-TTL:PT1H
BEGIN:VEVENT
UID:488@cal.gravitons.org
SUMMARY:New: The Work Shop with Ken Walker
DTSTAMP:20260420T141017Z
DTSTART:20260422T170000Z
DTEND:20260422T190000Z
DESCRIPTION:An established remixer from Australia bringing his immaculate e
	xecution of mid\nto uptemp vibes of neo-soul\, disco\, and house remixes.
URL:https://cal.gravitons.org/event/new-the-work-shop-with-ken-walker
LOCATION:online - https://labr.online
STATUS:CONFIRMED
CATEGORIES:communityradio,dj,fediradio,fediwave,labr,livestream,music,openf
	orm,owncast,radio
X-ALT-DESC;FMTTYPE=text/html:<p>An established remixer from Australia bring
	ing his immaculate execution of mid to uptemp vibes of neo-soul, disco, an
	d house remixes.</p>
BEGIN:VALARM
ACTION:DISPLAY
DESCRIPTION:New: The Work Shop with Ken Walker
TRIGGER:-PT1H
END:VALARM
END:VEVENT
END:VCALENDAR
