BEGIN:VCALENDAR
VERSION:2.0
CALSCALE:GREGORIAN
PRODID:adamgibbons/ics
METHOD:PUBLISH
X-PUBLISHED-TTL:PT1H
BEGIN:VEVENT
UID:498@cal.gravitons.org
SUMMARY:Late Night Art
DTSTAMP:20260422T020337Z
DTSTART:20260507T160000Z
DESCRIPTION:On the first Thursday of every month\, many of Belfast’s galler
	ies and studios\nstay up late so that audiences can enjoy after-hours acce
	ss to some of the\nfinest visual art that the city has to offer. A great p
	ost-work social activity\nto enjoy by yourself or with friends and family\
	, embrace the atmosphere of Late\nNight Art and immerse yourself in Belfas
	t's art scene. Participants can expect\nto see media from across the visua
	l arts\, including painting\, sculpture\,\nphotography\, illustration\, cr
	aft\, video\, and performance\, and no two Late Night\nArt experiences are
	 ever the same!\n\n"Ever wondered what Late Night Art Belfast is?!\n\nOn t
	he first Thursday of every month\, from 6-9pm (with some venues opening at
	\n5pm) Belfasts diverse Art spaces are open late and buzzing with exhibiti
	ons for\nyou to enjoy 🤩\n\nIf you’re looking an excuse to experience Belfa
	st’s fantastic visual art world\,\nlearn about new artists and would like 
	to connect with new people- then come\nalong to the next one!🌙✨\n\nLate Ni
	ght Art Belfast is free to attend and is for everyone!! ❤️ "
URL:https://cal.gravitons.org/event/late-night-art
LOCATION:Belfast - Various Locations
STATUS:CONFIRMED
CATEGORIES:Ainriail
X-ALT-DESC;FMTTYPE=text/html:<p>On the first Thursday of every month, many 
	of Belfast’s galleries and studios stay up late so that audiences can enjo
	y after-hours access to some of the finest visual art that the city has to
	 offer. A great post-work social activity to enjoy by yourself or with fri
	ends and family, embrace the atmosphere of Late Night Art and immerse your
	self in Belfast's art scene. Participants can expect to see media from acr
	oss the visual arts, including painting, sculpture, photography, illustrat
	ion, craft, video, and performance, and no two Late Night Art experiences 
	are ever the same!</p><p>"Ever wondered what Late Night Art Belfast is?!</
	p><p>On the first Thursday of every month, from 6-9pm (with some venues op
	ening at 5pm) Belfasts diverse Art spaces are open late and buzzing with e
	xhibitions for you to enjoy 🤩</p><p>If you’re looking an excuse to experie
	nce Belfast’s fantastic visual art world, learn about new artists and woul
	d like to connect with new people- then come along to the next one!🌙✨</p><
	p>Late Night Art Belfast is free to attend and is for everyone!! ❤️ "</p>
BEGIN:VALARM
ACTION:DISPLAY
DESCRIPTION:Late Night Art
TRIGGER:-PT1H
END:VALARM
END:VEVENT
END:VCALENDAR
