BEGIN:VCALENDAR
VERSION:2.0
CALSCALE:GREGORIAN
PRODID:adamgibbons/ics
METHOD:PUBLISH
X-PUBLISHED-TTL:PT1H
BEGIN:VEVENT
UID:494@cal.gravitons.org
SUMMARY:Gruama ft. HUTCH.IRL - Pink Moustache EP Launch
DTSTAMP:20260422T003732Z
DTSTART:20260425T180000Z
DESCRIPTION:"@pigment.space [http://pigment.space] is letting me bring my o
	wn brand of\noff-putting electro-grunge to his gallery space in Belfast on
	 the twenty-fifth.\n\nCome and see me!"\n\nBYOB. Suggested gratuity £5.
URL:https://cal.gravitons.org/event/gruama-ft-hutchirl-pink-moustache-ep-la
	unch
LOCATION:Pigment Space - Pigment Space\, 54a Sunnyside Street\, Belfast BT7
	 3EX
STATUS:CONFIRMED
CATEGORIES:Ainriail,Belfast,gruama,live music,pigment space
X-ALT-DESC;FMTTYPE=text/html:<p>"@<a target="_blank" href="http://pigment.s
	pace">pigment.space</a> is letting me bring my own brand of off-putting el
	ectro-grunge to his gallery space in Belfast on the twenty-fifth.</p><p>Co
	me and see me!"</p><p>BYOB. Suggested gratuity £5.</p>
BEGIN:VALARM
ACTION:DISPLAY
DESCRIPTION:Gruama ft. HUTCH.IRL - Pink Moustache EP Launch
TRIGGER:-PT1H
END:VALARM
END:VEVENT
END:VCALENDAR
