BEGIN:VCALENDAR
VERSION:2.0
CALSCALE:GREGORIAN
PRODID:adamgibbons/ics
METHOD:PUBLISH
X-PUBLISHED-TTL:PT1H
BEGIN:VEVENT
UID:501@cal.gravitons.org
SUMMARY:Dark Thoughts (USA) / Special Branch / Flower Power / Topper // Dub
	lin
DTSTAMP:20260422T233042Z
DTSTART:20260530T193000Z
DTEND:20260530T224500Z
DESCRIPTION:DARK THOUGHTS (Philadelphia\, USA)\n\nhttps://dark-thoughts.ban
	dcamp.com/music\n[https://dark-thoughts.bandcamp.com/music]\n\n\n\nSPECIAL
	 BRANCH\n\nhttps://specialbranchpunk.bandcamp.com/\n[https://specialbranch
	punk.bandcamp.com/]\n\n\n\nFLOWER POWER\n\nhttps://bendandorbreak.bandcamp
	.com/music\n[https://bendandorbreak.bandcamp.com/music]\n\n\n\nTOPPER\n\nf
	irst gig\, members of R.A.Z.O.R.\, MANA and AN SLUA\n\n\n\nTickets €15:\nh
	ttps://www.eventbrite.com/e/dark-thoughts-usa-special-branch-flower-power-
	topper-dublin-tickets-1987446655447\n[https://www.eventbrite.com/e/dark-th
	oughts-usa-special-branch-flower-power-topper-dublin-tickets-1987446655447
	]
URL:https://cal.gravitons.org/event/dark-thoughts-usa-special-branch-flower
	-power-topper-dublin
LOCATION:Mono's Bar - Dalymount\, Phibsborough\, Dublin\, D07 WF89
STATUS:CONFIRMED
CATEGORIES:Ainriail,DIY,Dublin,hardcore,Punk
X-ALT-DESC;FMTTYPE=text/html:<p>DARK THOUGHTS (Philadelphia, USA)</p><p><a 
	target="_blank" href="https://dark-thoughts.bandcamp.com/music">https://da
	rk-thoughts.bandcamp.com/music</a></p><p></p><p>SPECIAL BRANCH</p><p><a ta
	rget="_blank" href="https://specialbranchpunk.bandcamp.com/">https://speci
	albranchpunk.bandcamp.com/</a></p><p></p><p>FLOWER POWER</p><p><a target="
	_blank" href="https://bendandorbreak.bandcamp.com/music">https://bendandor
	break.bandcamp.com/music</a></p><p></p><p>TOPPER</p><p>first gig, members 
	of R.A.Z.O.R., MANA and AN SLUA</p><p></p><p>Tickets €15: <a target="_blan
	k" href="https://www.eventbrite.com/e/dark-thoughts-usa-special-branch-flo
	wer-power-topper-dublin-tickets-1987446655447">https://www.eventbrite.com/
	e/dark-thoughts-usa-special-branch-flower-power-topper-dublin-tickets-1987
	446655447</a></p>
BEGIN:VALARM
ACTION:DISPLAY
DESCRIPTION:Dark Thoughts (USA) / Special Branch / Flower Power / Topper //
	 Dublin
TRIGGER:-PT1H
END:VALARM
END:VEVENT
END:VCALENDAR
